Package: affyPLM Version: 1.86.0 Command: /home/biocbuild/bbs-3.22-bioc/R/bin/R CMD INSTALL affyPLM StartedAt: 2025-11-11 15:20:59 -0500 (Tue, 11 Nov 2025) EndedAt: 2025-11-11 15:21:18 -0500 (Tue, 11 Nov 2025) EllapsedTime: 19.2 seconds RetCode: 0 Status: OK