Package: affyILM Version: 1.62.0 Command: /home/biocbuild/bbs-3.22-bioc/R/bin/R CMD INSTALL affyILM StartedAt: 2025-11-04 15:14:33 -0500 (Tue, 04 Nov 2025) EndedAt: 2025-11-04 15:14:45 -0500 (Tue, 04 Nov 2025) EllapsedTime: 12.1 seconds RetCode: 0 Status: OK