Package: affyILM Version: 1.62.0 Command: /home/biocbuild/bbs-3.22-bioc/R/bin/R CMD build --keep-empty-dirs --no-resave-data --md5 affyILM StartedAt: 2025-11-05 16:17:35 -0500 (Wed, 05 Nov 2025) EndedAt: 2025-11-05 16:18:15 -0500 (Wed, 05 Nov 2025) EllapsedTime: 40.0 seconds RetCode: 0 Status: OK PackageFile: affyILM_1.62.0.tar.gz PackageFileSize: 234 KiB