Package: affyContam Version: 1.68.0 Command: /home/biocbuild/bbs-3.22-bioc/R/bin/R CMD INSTALL affyContam StartedAt: 2025-11-17 18:14:36 -0500 (Mon, 17 Nov 2025) EndedAt: 2025-11-17 18:14:39 -0500 (Mon, 17 Nov 2025) EllapsedTime: 3.1 seconds RetCode: 0 Status: OK