Package: affy Version: 1.88.0 Command: /home/biocbuild/bbs-3.22-bioc/R/bin/R CMD INSTALL affy StartedAt: 2025-11-17 17:12:37 -0500 (Mon, 17 Nov 2025) EndedAt: 2025-11-17 17:12:45 -0500 (Mon, 17 Nov 2025) EllapsedTime: 7.9 seconds RetCode: 0 Status: OK