Package: affy Version: 1.88.0 Command: /home/biocbuild/bbs-3.22-bioc/R/bin/R CMD build --keep-empty-dirs --no-resave-data --md5 affy StartedAt: 2025-11-17 19:20:31 -0500 (Mon, 17 Nov 2025) EndedAt: 2025-11-17 19:21:29 -0500 (Mon, 17 Nov 2025) EllapsedTime: 58.1 seconds RetCode: 0 Status: OK PackageFile: affy_1.88.0.tar.gz PackageFileSize: 1.689 MiB