Package: affxparser Version: 1.82.0 Command: /home/biocbuild/bbs-3.22-bioc/R/bin/R CMD build --keep-empty-dirs --no-resave-data --md5 affxparser StartedAt: 2025-11-11 16:13:20 -0500 (Tue, 11 Nov 2025) EndedAt: 2025-11-11 16:13:23 -0500 (Tue, 11 Nov 2025) EllapsedTime: 3.0 seconds RetCode: 0 Status: OK PackageFile: affxparser_1.82.0.tar.gz PackageFileSize: 799.8 KiB