Package: affxparser Version: 1.82.0 Command: /Library/Frameworks/R.framework/Resources/bin/R CMD INSTALL affxparser StartedAt: 2025-11-10 15:01:13 -0500 (Mon, 10 Nov 2025) EndedAt: 2025-11-10 15:01:46 -0500 (Mon, 10 Nov 2025) EllapsedTime: 32.7 seconds RetCode: 0 Status: OK