Package: affxparser Version: 1.82.0 Command: /Library/Frameworks/R.framework/Resources/bin/R CMD build --keep-empty-dirs --no-resave-data affxparser StartedAt: 2025-11-10 15:35:43 -0500 (Mon, 10 Nov 2025) EndedAt: 2025-11-10 15:35:45 -0500 (Mon, 10 Nov 2025) EllapsedTime: 2.0 seconds RetCode: 0 Status: OK PackageFile: affxparser_1.82.0.tar.gz PackageFileSize: 782.8 KiB