Package: adverSCarial Version: 1.8.0 Command: /home/biocbuild/bbs-3.22-bioc/R/bin/R CMD INSTALL adverSCarial StartedAt: 2025-11-11 15:19:51 -0500 (Tue, 11 Nov 2025) EndedAt: 2025-11-11 15:19:56 -0500 (Tue, 11 Nov 2025) EllapsedTime: 4.3 seconds RetCode: 0 Status: OK