Package: adductomicsR Version: 1.26.0 Command: /home/biocbuild/bbs-3.22-bioc/R/bin/R CMD INSTALL adductomicsR StartedAt: 2025-11-11 15:36:04 -0500 (Tue, 11 Nov 2025) EndedAt: 2025-11-11 15:36:27 -0500 (Tue, 11 Nov 2025) EllapsedTime: 22.5 seconds RetCode: 0 Status: OK