Package: adductomicsR Version: 1.26.0 Command: /home/biocbuild/bbs-3.22-bioc/R/bin/R CMD build --keep-empty-dirs --no-resave-data --md5 adductomicsR StartedAt: 2025-11-11 16:13:02 -0500 (Tue, 11 Nov 2025) EndedAt: 2025-11-11 16:16:11 -0500 (Tue, 11 Nov 2025) EllapsedTime: 188.3 seconds RetCode: 0 Status: OK PackageFile: adductomicsR_1.26.0.tar.gz PackageFileSize: 755.1 KiB