Package: adductomicsR Version: 1.24.0 Command: /home/biocbuild/R/R/bin/R CMD INSTALL adductomicsR StartedAt: 2025-10-13 20:46:39 -0000 (Mon, 13 Oct 2025) EndedAt: 2025-10-13 20:47:13 -0000 (Mon, 13 Oct 2025) EllapsedTime: 34.5 seconds RetCode: 0 Status: OK