Package: adductomicsR Version: 1.24.0 Command: /home/biocbuild/R/R/bin/R CMD build --keep-empty-dirs --no-resave-data adductomicsR StartedAt: 2025-10-13 22:28:58 -0000 (Mon, 13 Oct 2025) EndedAt: 2025-10-13 23:05:46 -0000 (Mon, 13 Oct 2025) EllapsedTime: 2207.5 seconds RetCode: 0 Status: OK PackageFile: adductomicsR_1.24.0.tar.gz PackageFileSize: 752.7 KiB