Package: adSplit Version: 1.80.0 Command: /home/biocbuild/bbs-3.22-bioc/R/bin/R CMD check --install=check:adSplit.install-out.txt --library=/home/biocbuild/bbs-3.22-bioc/R/site-library --timings adSplit_1.80.0.tar.gz StartedAt: 2025-11-13 21:01:54 -0500 (Thu, 13 Nov 2025) EndedAt: 2025-11-13 21:07:19 -0500 (Thu, 13 Nov 2025) EllapsedTime: 325.5 seconds RetCode: 0 Status: OK CheckDir: adSplit.Rcheck Warnings: 0