Package: adSplit Version: 1.80.0 Command: /home/biocbuild/bbs-3.22-bioc/R/bin/R CMD build --keep-empty-dirs --no-resave-data --md5 adSplit StartedAt: 2025-11-11 16:13:06 -0500 (Tue, 11 Nov 2025) EndedAt: 2025-11-11 16:14:57 -0500 (Tue, 11 Nov 2025) EllapsedTime: 111.1 seconds RetCode: 0 Status: OK PackageFile: adSplit_1.80.0.tar.gz PackageFileSize: 537.9 KiB