Package: adSplit Version: 1.80.0 Command: /Library/Frameworks/R.framework/Resources/bin/R CMD INSTALL adSplit StartedAt: 2025-11-03 15:39:54 -0500 (Mon, 03 Nov 2025) EndedAt: 2025-11-03 15:40:16 -0500 (Mon, 03 Nov 2025) EllapsedTime: 22.5 seconds RetCode: 0 Status: OK