Package: adSplit Version: 1.80.0 Command: /Library/Frameworks/R.framework/Resources/bin/R CMD build --keep-empty-dirs --no-resave-data adSplit StartedAt: 2025-11-03 16:01:21 -0500 (Mon, 03 Nov 2025) EndedAt: 2025-11-03 16:03:41 -0500 (Mon, 03 Nov 2025) EllapsedTime: 139.6 seconds RetCode: 0 Status: OK PackageFile: adSplit_1.80.0.tar.gz PackageFileSize: 536.5 KiB