Package: adSplit Version: 1.78.0 Command: /home/biocbuild/R/R/bin/R CMD INSTALL adSplit StartedAt: 2025-10-06 21:01:45 -0000 (Mon, 06 Oct 2025) EndedAt: 2025-10-06 21:02:08 -0000 (Mon, 06 Oct 2025) EllapsedTime: 22.6 seconds RetCode: 0 Status: OK