Package: adSplit Version: 1.78.0 Command: /home/biocbuild/R/R/bin/R CMD build --keep-empty-dirs --no-resave-data adSplit StartedAt: 2025-10-06 22:28:02 -0000 (Mon, 06 Oct 2025) EndedAt: 2025-10-06 22:30:52 -0000 (Mon, 06 Oct 2025) EllapsedTime: 170.1 seconds RetCode: 0 Status: OK PackageFile: adSplit_1.78.0.tar.gz PackageFileSize: 526.1 KiB