Package: adSplit Version: 1.78.0 Command: /Library/Frameworks/R.framework/Resources/bin/R CMD INSTALL adSplit StartedAt: 2025-10-13 17:38:54 -0400 (Mon, 13 Oct 2025) EndedAt: 2025-10-13 17:39:13 -0400 (Mon, 13 Oct 2025) EllapsedTime: 19.5 seconds RetCode: 0 Status: OK