Package: adSplit Version: 1.80.0 Maintainer: Claudio Lottaz MaintainerEmail: Claudio.Lottaz at klinik.uni-regensburg.de git_url: https://git.bioconductor.org/packages/adSplit git_branch: RELEASE_3_22 git_last_commit: 0efcd35 git_last_commit_date: 2025-10-29 09:57:38 -0400 (Wed, 29 Oct 2025)