Package: acde Version: 1.40.0 Command: /home/biocbuild/bbs-3.22-bioc/R/bin/R CMD INSTALL acde StartedAt: 2025-11-11 15:08:40 -0500 (Tue, 11 Nov 2025) EndedAt: 2025-11-11 15:09:01 -0500 (Tue, 11 Nov 2025) EllapsedTime: 21.4 seconds RetCode: 0 Status: OK