Package: acde Version: 1.40.0 Command: /home/biocbuild/bbs-3.22-bioc/R/bin/R CMD build --keep-empty-dirs --no-resave-data --md5 acde StartedAt: 2025-11-11 16:12:53 -0500 (Tue, 11 Nov 2025) EndedAt: 2025-11-11 16:13:06 -0500 (Tue, 11 Nov 2025) EllapsedTime: 13.0 seconds RetCode: 0 Status: OK PackageFile: acde_1.40.0.tar.gz PackageFileSize: 8.878 MiB