Package: abseqR Version: 1.28.0 Command: /home/biocbuild/R/R/bin/R CMD INSTALL abseqR StartedAt: 2025-11-24 21:15:37 -0000 (Mon, 24 Nov 2025) EndedAt: 2025-11-24 21:15:59 -0000 (Mon, 24 Nov 2025) EllapsedTime: 22.1 seconds RetCode: 0 Status: OK