Package: abseqR Version: 1.28.0 Command: /home/biocbuild/R/R/bin/R CMD build --keep-empty-dirs --no-resave-data abseqR StartedAt: 2025-11-24 23:19:40 -0000 (Mon, 24 Nov 2025) EndedAt: 2025-11-24 23:22:28 -0000 (Mon, 24 Nov 2025) EllapsedTime: 168.1 seconds RetCode: 0 Status: OK PackageFile: abseqR_1.28.0.tar.gz PackageFileSize: 2.593 MiB