Package: abseqR Version: 1.26.0 Command: /home/biocbuild/bbs-3.21-bioc/R/bin/R CMD build --keep-empty-dirs --no-resave-data abseqR StartedAt: 2025-10-15 16:06:58 -0400 (Wed, 15 Oct 2025) EndedAt: 2025-10-15 16:09:09 -0400 (Wed, 15 Oct 2025) EllapsedTime: 130.2 seconds RetCode: 0 Status: OK PackageFile: abseqR_1.26.0.tar.gz PackageFileSize: 2.65 MiB