Package: abseqR Version: 1.28.0 Command: /Library/Frameworks/R.framework/Resources/bin/R CMD build --keep-empty-dirs --no-resave-data abseqR StartedAt: 2025-10-31 16:06:00 -0400 (Fri, 31 Oct 2025) EndedAt: 2025-10-31 16:10:46 -0400 (Fri, 31 Oct 2025) EllapsedTime: 285.6 seconds RetCode: 0 Status: OK PackageFile: abseqR_1.28.0.tar.gz PackageFileSize: 2.903 MiB