Package: abseqR Version: 1.26.0 Command: /home/biocbuild/R/R/bin/R CMD INSTALL abseqR StartedAt: 2025-09-29 20:23:07 -0000 (Mon, 29 Sep 2025) EndedAt: 2025-09-29 20:23:23 -0000 (Mon, 29 Sep 2025) EllapsedTime: 16.0 seconds RetCode: 0 Status: OK