Package: abseqR Version: 1.26.0 Command: /home/biocbuild/R/R/bin/R CMD build --keep-empty-dirs --no-resave-data abseqR StartedAt: 2025-09-29 22:28:58 -0000 (Mon, 29 Sep 2025) EndedAt: 2025-09-29 22:31:21 -0000 (Mon, 29 Sep 2025) EllapsedTime: 143.1 seconds RetCode: 0 Status: OK PackageFile: abseqR_1.26.0.tar.gz PackageFileSize: 2.592 MiB