Package: abseqR Version: 1.26.0 Command: /Library/Frameworks/R.framework/Resources/bin/R CMD INSTALL abseqR StartedAt: 2025-04-21 15:05:56 -0400 (Mon, 21 Apr 2025) EndedAt: 2025-04-21 15:06:00 -0400 (Mon, 21 Apr 2025) EllapsedTime: 4.1 seconds RetCode: 0 Status: OK