Package: abseqR Version: 1.26.0 Command: rm -rf abseqR.buildbin-libdir && mkdir abseqR.buildbin-libdir && /Users/biocbuild/BBS/utils/build-universal.sh abseqR_1.26.0.tar.gz /Library/Frameworks/R.framework/Resources/bin/R abseqR.buildbin-libdir StartedAt: 2025-04-21 22:25:26 -0400 (Mon, 21 Apr 2025) EndedAt: 2025-04-21 22:25:32 -0400 (Mon, 21 Apr 2025) EllapsedTime: 6.2 seconds RetCode: 0 Status: OK PackageFile: abseqR_1.26.0.tgz PackageFileSize: 2.915 MiB