Package: abseqR Version: 1.26.0 Command: /Library/Frameworks/R.framework/Resources/bin/R CMD INSTALL abseqR StartedAt: 2025-10-13 15:30:51 -0400 (Mon, 13 Oct 2025) EndedAt: 2025-10-13 15:31:05 -0400 (Mon, 13 Oct 2025) EllapsedTime: 14.5 seconds RetCode: 0 Status: OK