Package: abseqR Version: 1.26.0 Command: /Library/Frameworks/R.framework/Resources/bin/R CMD build --keep-empty-dirs --no-resave-data abseqR StartedAt: 2025-10-13 18:45:33 -0400 (Mon, 13 Oct 2025) EndedAt: 2025-10-13 18:51:04 -0400 (Mon, 13 Oct 2025) EllapsedTime: 331.5 seconds RetCode: 0 Status: OK PackageFile: abseqR_1.26.0.tar.gz PackageFileSize: 2.902 MiB