Package: aCGH Version: 1.88.0 Command: /home/biocbuild/bbs-3.22-bioc/R/bin/R CMD build --keep-empty-dirs --no-resave-data --md5 aCGH StartedAt: 2025-11-11 16:12:53 -0500 (Tue, 11 Nov 2025) EndedAt: 2025-11-11 16:13:20 -0500 (Tue, 11 Nov 2025) EllapsedTime: 27.0 seconds RetCode: 0 Status: OK PackageFile: aCGH_1.88.0.tar.gz PackageFileSize: 2.221 MiB