Package: aCGH Version: 1.86.0 Command: /home/biocbuild/R/R/bin/R CMD INSTALL aCGH StartedAt: 2025-10-13 20:23:58 -0000 (Mon, 13 Oct 2025) EndedAt: 2025-10-13 20:24:13 -0000 (Mon, 13 Oct 2025) EllapsedTime: 14.8 seconds RetCode: 0 Status: OK