Package: aCGH Version: 1.86.0 Command: /home/biocbuild/R/R/bin/R CMD build --keep-empty-dirs --no-resave-data aCGH StartedAt: 2025-10-13 22:28:57 -0000 (Mon, 13 Oct 2025) EndedAt: 2025-10-13 22:29:35 -0000 (Mon, 13 Oct 2025) EllapsedTime: 38.0 seconds RetCode: 0 Status: OK PackageFile: aCGH_1.86.0.tar.gz PackageFileSize: 2.212 MiB