Package: a4Reporting Version: 1.58.0 Command: /Library/Frameworks/R.framework/Resources/bin/R CMD INSTALL a4Reporting StartedAt: 2025-11-03 15:09:20 -0500 (Mon, 03 Nov 2025) EndedAt: 2025-11-03 15:09:51 -0500 (Mon, 03 Nov 2025) EllapsedTime: 31.3 seconds RetCode: 0 Status: OK