Package: a4Reporting Version: 1.58.0 Command: rm -rf a4Reporting.buildbin-libdir && mkdir a4Reporting.buildbin-libdir && /Users/biocbuild/BBS/utils/build-universal.sh a4Reporting_1.58.0.tar.gz /Library/Frameworks/R.framework/Resources/bin/R a4Reporting.buildbin-libdir StartedAt: 2025-11-04 01:26:53 -0500 (Tue, 04 Nov 2025) EndedAt: 2025-11-04 01:27:03 -0500 (Tue, 04 Nov 2025) EllapsedTime: 10.4 seconds RetCode: 0 Status: OK PackageFile: a4Reporting_1.58.0.tgz PackageFileSize: 433.5 KiB