Package: a4Reporting Version: 1.56.0 Command: /home/biocbuild/R/R/bin/R CMD INSTALL a4Reporting StartedAt: 2025-10-13 20:12:46 -0000 (Mon, 13 Oct 2025) EndedAt: 2025-10-13 20:12:56 -0000 (Mon, 13 Oct 2025) EllapsedTime: 10.4 seconds RetCode: 0 Status: OK