Package: a4Reporting Version: 1.56.0 Command: /home/biocbuild/R/R/bin/R CMD build --keep-empty-dirs --no-resave-data a4Reporting StartedAt: 2025-10-13 22:28:57 -0000 (Mon, 13 Oct 2025) EndedAt: 2025-10-13 22:29:03 -0000 (Mon, 13 Oct 2025) EllapsedTime: 6.0 seconds RetCode: 0 Status: OK PackageFile: a4Reporting_1.56.0.tar.gz PackageFileSize: 357.9 KiB