Package: a4Preproc Version: 1.58.0 Command: /home/biocbuild/R/R/bin/R CMD INSTALL a4Preproc StartedAt: 2025-11-13 21:17:57 -0000 (Thu, 13 Nov 2025) EndedAt: 2025-11-13 21:18:01 -0000 (Thu, 13 Nov 2025) EllapsedTime: 3.5 seconds RetCode: 0 Status: OK