Package: a4Preproc Version: 1.58.0 Command: /home/biocbuild/bbs-3.22-bioc/R/bin/R CMD INSTALL a4Preproc StartedAt: 2025-11-11 15:16:18 -0500 (Tue, 11 Nov 2025) EndedAt: 2025-11-11 15:16:21 -0500 (Tue, 11 Nov 2025) EllapsedTime: 2.3 seconds RetCode: 0 Status: OK