Package: a4Preproc Version: 1.58.0 Command: /home/biocbuild/bbs-3.22-bioc/R/bin/R CMD check --install=check:a4Preproc.install-out.txt --library=/home/biocbuild/bbs-3.22-bioc/R/site-library --timings a4Preproc_1.58.0.tar.gz StartedAt: 2025-11-11 21:03:41 -0500 (Tue, 11 Nov 2025) EndedAt: 2025-11-11 21:04:14 -0500 (Tue, 11 Nov 2025) EllapsedTime: 33.0 seconds RetCode: 0 Status: OK CheckDir: a4Preproc.Rcheck Warnings: 0