Package: a4Preproc Version: 1.56.0 Command: rm -rf a4Preproc.buildbin-libdir && mkdir a4Preproc.buildbin-libdir && /Users/biocbuild/BBS/utils/build-universal.sh a4Preproc_1.56.0.tar.gz /Library/Frameworks/R.framework/Resources/bin/R a4Preproc.buildbin-libdir StartedAt: 2025-10-14 12:48:09 -0400 (Tue, 14 Oct 2025) EndedAt: 2025-10-14 12:48:17 -0400 (Tue, 14 Oct 2025) EllapsedTime: 7.4 seconds RetCode: 0 Status: OK PackageFile: a4Preproc_1.56.0.tgz PackageFileSize: 297 KiB