Package: a4Core Version: 1.58.0 Command: /home/biocbuild/bbs-3.22-bioc/R/bin/R CMD check --install=check:a4Core.install-out.txt --library=/home/biocbuild/bbs-3.22-bioc/R/site-library --timings a4Core_1.58.0.tar.gz StartedAt: 2025-11-11 21:03:41 -0500 (Tue, 11 Nov 2025) EndedAt: 2025-11-11 21:04:27 -0500 (Tue, 11 Nov 2025) EllapsedTime: 46.1 seconds RetCode: 0 Status: OK CheckDir: a4Core.Rcheck Warnings: 0