Package: a4Core Version: 1.56.0 Command: /Library/Frameworks/R.framework/Resources/bin/R CMD INSTALL a4Core StartedAt: 2025-10-13 15:23:33 -0400 (Mon, 13 Oct 2025) EndedAt: 2025-10-13 15:23:50 -0400 (Mon, 13 Oct 2025) EllapsedTime: 16.6 seconds RetCode: 0 Status: OK