Package: a4Core Version: 1.56.0 Command: rm -rf a4Core.buildbin-libdir && mkdir a4Core.buildbin-libdir && /Users/biocbuild/BBS/utils/build-universal.sh a4Core_1.56.0.tar.gz /Library/Frameworks/R.framework/Resources/bin/R a4Core.buildbin-libdir StartedAt: 2025-10-14 12:48:09 -0400 (Tue, 14 Oct 2025) EndedAt: 2025-10-14 12:48:26 -0400 (Tue, 14 Oct 2025) EllapsedTime: 16.2 seconds RetCode: 0 Status: OK PackageFile: a4Core_1.56.0.tgz PackageFileSize: 310.2 KiB