Package: a4Classif Version: 1.58.0 Command: /home/biocbuild/R/R/bin/R CMD INSTALL a4Classif StartedAt: 2025-11-13 21:19:24 -0000 (Thu, 13 Nov 2025) EndedAt: 2025-11-13 21:19:36 -0000 (Thu, 13 Nov 2025) EllapsedTime: 11.2 seconds RetCode: 0 Status: OK