Package: a4Classif Version: 1.58.0 Command: /home/biocbuild/R/R/bin/R CMD build --keep-empty-dirs --no-resave-data a4Classif StartedAt: 2025-11-13 23:19:18 -0000 (Thu, 13 Nov 2025) EndedAt: 2025-11-13 23:19:52 -0000 (Thu, 13 Nov 2025) EllapsedTime: 34.0 seconds RetCode: 0 Status: OK PackageFile: a4Classif_1.58.0.tar.gz PackageFileSize: 475 KiB